BEGIN:VCALENDAR
VERSION:2.0
PRODID:spatie/icalendar-generator
DESCRIPTION:なかまユニオン労働相談センターのイベント
X-WR-CALDESC:なかまユニオン労働相談センターのイベント
REFRESH-INTERVAL;VALUE=DURATION:PT1440M
X-PUBLISHED-TTL:PT1440M
BEGIN:VTIMEZONE
TZID:Asia/Tokyo
BEGIN:STANDARD
DTSTART:20230215T160000Z
TZOFFSETFROM:+0900
TZOFFSETTO:+0900
END:STANDARD
END:VTIMEZONE
BEGIN:VTIMEZONE
TZID:UTC
BEGIN:STANDARD
DTSTART:20250724T121544Z
TZOFFSETFROM:+0000
TZOFFSETTO:+0000
END:STANDARD
END:VTIMEZONE
BEGIN:VEVENT
UID:1141-170
DTSTAMP:20260420T121544Z
SUMMARY:新組合員歓迎会
LOCATION:
ORGANIZER;CN=Nakama Uniom:MAILTO:mail@nakama-union.org
DTSTART;TZID=Asia/Tokyo:20231112T160000
DTEND;TZID=Asia/Tokyo:20231112T170000
X-ALT-DESC;FMTTYPE=TEXT/HTML:歓迎します。なかまユニオンの事
 務所で開催。
CATEGORIES:General
URL;VALUE=URI:https://www.nakama-union.org/mc-events/%e6%96%b0%e7%b5%84%e5%
 90%88%e5%93%a1%e6%ad%93%e8%bf%8e%e4%bc%9a
METHOD:PUBLISH
END:VEVENT
END:VCALENDAR