BEGIN:VCALENDAR
VERSION:2.0
PRODID:spatie/icalendar-generator
DESCRIPTION:なかまユニオン労働相談センターのイベント
X-WR-CALDESC:なかまユニオン労働相談センターのイベント
REFRESH-INTERVAL;VALUE=DURATION:PT1440M
X-PUBLISHED-TTL:PT1440M
BEGIN:VTIMEZONE
TZID:Asia/Tokyo
BEGIN:STANDARD
DTSTART:20230228T000000Z
TZOFFSETFROM:+0900
TZOFFSETTO:+0900
END:STANDARD
END:VTIMEZONE
BEGIN:VTIMEZONE
TZID:UTC
BEGIN:STANDARD
DTSTART:20250724T131723Z
TZOFFSETFROM:+0000
TZOFFSETTO:+0000
END:STANDARD
END:VTIMEZONE
BEGIN:VEVENT
UID:1146-174
DTSTAMP:20260420T131723Z
SUMMARY:第３５回コミュニティユニオン全国交流集会
LOCATION:
ORGANIZER;CN=Nakama Uniom:MAILTO:mail@nakama-union.org
DTSTART;TZID=Asia/Tokyo;VALUE=DATE:20231125
DTEND;TZID=Asia/Tokyo;VALUE=DATE:20231127
X-ALT-DESC;FMTTYPE=TEXT/HTML:第３５回コミュニティ・ユニオン
 全国交流集会in熊本 本年１１月２５日（土）～２６日
 （日）の日程で、コミュニティ&amp;hellip\;
CATEGORIES:General
URL;VALUE=URI:https://www.nakama-union.org/mc-events/%e7%ac%ac%ef%bc%93%ef%
 bc%95%e5%9b%9e%e3%82%b3%e3%83%9f%e3%83%a5%e3%83%8b%e3%83%86%e3%82%a3%e3%83
 %a6%e3%83%8b%e3%82%aa%e3%83%b3%e5%85%a8%e5%9b%bd%e4%ba%a4%e6%b5%81%e9%9b%8
 6%e4%bc%9a
METHOD:PUBLISH
END:VEVENT
END:VCALENDAR