BEGIN:VCALENDAR
VERSION:2.0
PRODID:spatie/icalendar-generator
DESCRIPTION:なかまユニオン労働相談センターのイベント
X-WR-CALDESC:なかまユニオン労働相談センターのイベント
REFRESH-INTERVAL;VALUE=DURATION:PT1440M
X-PUBLISHED-TTL:PT1440M
BEGIN:VTIMEZONE
TZID:Asia/Tokyo
BEGIN:STANDARD
DTSTART:20230323T110000Z
TZOFFSETFROM:+0900
TZOFFSETTO:+0900
END:STANDARD
END:VTIMEZONE
BEGIN:VTIMEZONE
TZID:UTC
BEGIN:STANDARD
DTSTART:20250724T135100Z
TZOFFSETFROM:+0000
TZOFFSETTO:+0000
END:STANDARD
END:VTIMEZONE
BEGIN:VEVENT
UID:1150-178
DTSTAMP:20260420T135100Z
SUMMARY:クリーク事件労働委員会
LOCATION:
ORGANIZER;CN=Nakama Uniom:MAILTO:mail@nakama-union.org
DTSTART;TZID=Asia/Tokyo:20231218T110000
DTEND;TZID=Asia/Tokyo:20231218T120000
X-ALT-DESC;FMTTYPE=TEXT/HTML:残業代を請求したところ、事業部
 門を閉鎖し組合員を解雇した事件。
CATEGORIES:General
URL;VALUE=URI:https://www.nakama-union.org/mc-events/%e3%82%af%e3%83%aa%e3%
 83%bc%e3%82%af%e4%ba%8b%e4%bb%b6%e5%8a%b4%e5%83%8d%e5%a7%94%e5%93%a1%e4%bc
 %9a
METHOD:PUBLISH
END:VEVENT
END:VCALENDAR