BEGIN:VCALENDAR
VERSION:2.0
PRODID:spatie/icalendar-generator
DESCRIPTION:なかまユニオン労働相談センターのイベント
X-WR-CALDESC:なかまユニオン労働相談センターのイベント
REFRESH-INTERVAL;VALUE=DURATION:PT1440M
X-PUBLISHED-TTL:PT1440M
BEGIN:VTIMEZONE
TZID:Asia/Tokyo
BEGIN:STANDARD
DTSTART:20230529T140000Z
TZOFFSETFROM:+0900
TZOFFSETTO:+0900
END:STANDARD
END:VTIMEZONE
BEGIN:VTIMEZONE
TZID:UTC
BEGIN:STANDARD
DTSTART:20250724T144337Z
TZOFFSETFROM:+0000
TZOFFSETTO:+0000
END:STANDARD
END:VTIMEZONE
BEGIN:VEVENT
UID:1155-183
DTSTAMP:20260420T144337Z
SUMMARY:１０％以上の賃上げを！一人からでも非正規春闘
 を！関西の集い
LOCATION:PLP会館 北区天神橋３丁目９−２７  大阪市 大阪
 府
ORGANIZER;CN=Nakama Uniom:MAILTO:mail@nakama-union.org
DTSTART;TZID=Asia/Tokyo:20240223T140000
DTEND;TZID=Asia/Tokyo:20240223T163000
X-ALT-DESC;FMTTYPE=TEXT/HTML:天井知らずの物価高。今こそ春闘
 賃上げだ。１０％以上の賃上げをめざそう。 労働組合
 に入ってない自分には春闘なんて&amp;hellip\;
CATEGORIES:General
URL;VALUE=URI:https://www.nakama-union.org/mc-events/%ef%bc%91%ef%bc%90%ef%
 bc%85%e4%bb%a5%e4%b8%8a%e3%81%ae%e8%b3%83%e4%b8%8a%e3%81%92%e3%82%92%ef%bc
 %81%e4%b8%80%e4%ba%ba%e3%81%8b%e3%82%89%e3%81%a7%e3%82%82%e9%9d%9e%e6%ad%a
 3%e8%a6%8f%e6%98%a5%e9%97%98
METHOD:PUBLISH
END:VEVENT
END:VCALENDAR