BEGIN:VCALENDAR
VERSION:2.0
PRODID:spatie/icalendar-generator
DESCRIPTION:なかまユニオン労働相談センターのイベント
X-WR-CALDESC:なかまユニオン労働相談センターのイベント
REFRESH-INTERVAL;VALUE=DURATION:PT1440M
X-PUBLISHED-TTL:PT1440M
BEGIN:VTIMEZONE
TZID:Asia/Tokyo
BEGIN:STANDARD
DTSTART:20230525T120000Z
TZOFFSETFROM:+0900
TZOFFSETTO:+0900
END:STANDARD
END:VTIMEZONE
BEGIN:VTIMEZONE
TZID:UTC
BEGIN:STANDARD
DTSTART:20250724T121657Z
TZOFFSETFROM:+0000
TZOFFSETTO:+0000
END:STANDARD
END:VTIMEZONE
BEGIN:VEVENT
UID:1158-186
DTSTAMP:20260420T121657Z
SUMMARY:労災を申請したら解雇、ニホンゲンマの不当解雇
 撤回を求める２・１９就労闘争（出勤闘争）にご参加
 ください。
LOCATION:ニホンゲンマ三津屋工場 淀川区三津屋中3丁目8番
 10号  大阪市 大阪府
ORGANIZER;CN=Nakama Uniom:MAILTO:mail@nakama-union.org
DTSTART;TZID=Asia/Tokyo:20240219T120000
DTEND;TZID=Asia/Tokyo:20240219T130000
X-ALT-DESC;FMTTYPE=TEXT/HTML:職場復帰を求める就労闘争（出勤
 闘争）を毎月第１，第３月曜日に取り組んでいます。 
 次回は、２月１９日（月）正午　&amp;hellip\;
CATEGORIES:General
URL;VALUE=URI:https://www.nakama-union.org/mc-events/%e5%8a%b4%e7%81%bd%e3%
 82%92%e7%94%b3%e8%ab%8b%e3%81%97%e3%81%9f%e3%82%89%e8%a7%a3%e9%9b%87%e3%80
 %81%e3%83%8b%e3%83%9b%e3%83%b3%e3%82%b2%e3%83%b3%e3%83%9e%e3%81%ae%e4%b8%8
 d%e5%bd%93%e8%a7%a3%e9%9b%87-2
METHOD:PUBLISH
END:VEVENT
END:VCALENDAR