BEGIN:VCALENDAR
VERSION:2.0
PRODID:spatie/icalendar-generator
DESCRIPTION:なかまユニオン労働相談センターのイベント
X-WR-CALDESC:なかまユニオン労働相談センターのイベント
REFRESH-INTERVAL;VALUE=DURATION:PT1440M
X-PUBLISHED-TTL:PT1440M
BEGIN:VTIMEZONE
TZID:Asia/Tokyo
BEGIN:STANDARD
DTSTART:20230607T000000Z
TZOFFSETFROM:+0900
TZOFFSETTO:+0900
END:STANDARD
END:VTIMEZONE
BEGIN:VTIMEZONE
TZID:UTC
BEGIN:STANDARD
DTSTART:20250724T150542Z
TZOFFSETFROM:+0000
TZOFFSETTO:+0000
END:STANDARD
END:VTIMEZONE
BEGIN:VEVENT
UID:1159-187
DTSTAMP:20260420T150542Z
SUMMARY:3/3職場のストレス発散！ユニオンおしゃべりハイ
 キング会、星のブランコ（交野市）に
LOCATION:
ORGANIZER;CN=Nakama Uniom:MAILTO:mail@nakama-union.org
DTSTART;TZID=Asia/Tokyo;VALUE=DATE:20240303
DTEND;TZID=Asia/Tokyo;VALUE=DATE:20240304
X-ALT-DESC;FMTTYPE=TEXT/HTML:今回のなかまユニオンおしゃべり
 ハイキング会は、3/3(日)大阪府交野市にある星のブラン
 コ（吊り橋）に行きたいと&amp;hellip\;
CATEGORIES:General
URL;VALUE=URI:https://www.nakama-union.org/mc-events/3-3%e8%81%b7%e5%a0%b4%
 e3%81%ae%e3%82%b9%e3%83%88%e3%83%ac%e3%82%b9%e7%99%ba%e6%95%a3%ef%bc%81%e3
 %83%a6%e3%83%8b%e3%82%aa%e3%83%b3%e3%81%8a%e3%81%97%e3%82%83%e3%81%b9%e3%8
 2%8a%e3%83%8f%e3%82%a4
METHOD:PUBLISH
END:VEVENT
END:VCALENDAR