BEGIN:VCALENDAR
VERSION:2.0
PRODID:spatie/icalendar-generator
DESCRIPTION:なかまユニオン労働相談センターのイベント
X-WR-CALDESC:なかまユニオン労働相談センターのイベント
REFRESH-INTERVAL;VALUE=DURATION:PT1440M
X-PUBLISHED-TTL:PT1440M
BEGIN:VTIMEZONE
TZID:Asia/Tokyo
BEGIN:STANDARD
DTSTART:20230531T100000Z
TZOFFSETFROM:+0900
TZOFFSETTO:+0900
END:STANDARD
END:VTIMEZONE
BEGIN:VTIMEZONE
TZID:UTC
BEGIN:STANDARD
DTSTART:20250724T134927Z
TZOFFSETFROM:+0000
TZOFFSETTO:+0000
END:STANDARD
END:VTIMEZONE
BEGIN:VEVENT
UID:1160-188
DTSTAMP:20260420T134927Z
SUMMARY:非正規春闘ホットライン（関西）を、２５日実施
 ！
LOCATION:
ORGANIZER;CN=Nakama Uniom:MAILTO:mail@nakama-union.org
DTSTART;TZID=Asia/Tokyo:20240225T100000
DTEND;TZID=Asia/Tokyo:20240225T200000
X-ALT-DESC;FMTTYPE=TEXT/HTML:現在、多くの労働組合が賃上げの
 要求書を会社に提出しています。非正規労働者も一人
 からでも春闘に参加する「非正規春&amp;hellip\;
CATEGORIES:General
URL;VALUE=URI:https://www.nakama-union.org/mc-events/%e9%9d%9e%e6%ad%a3%e8%
 a6%8f%e6%98%a5%e9%97%98%e3%83%9b%e3%83%83%e3%83%88%e3%83%a9%e3%82%a4%e3%83
 %b3%ef%bc%88%e9%96%a2%e8%a5%bf%ef%bc%89%e3%82%92%e3%80%81%ef%bc%92%ef%bc%9
 5%e6%97%a5%e5%ae%9f%e6%96%bd
METHOD:PUBLISH
END:VEVENT
END:VCALENDAR