BEGIN:VCALENDAR
VERSION:2.0
PRODID:spatie/icalendar-generator
DESCRIPTION:なかまユニオン労働相談センターのイベント
X-WR-CALDESC:なかまユニオン労働相談センターのイベント
REFRESH-INTERVAL;VALUE=DURATION:PT1440M
X-PUBLISHED-TTL:PT1440M
BEGIN:VTIMEZONE
TZID:Asia/Tokyo
BEGIN:STANDARD
DTSTART:20230813T113000Z
TZOFFSETFROM:+0900
TZOFFSETTO:+0900
END:STANDARD
END:VTIMEZONE
BEGIN:VTIMEZONE
TZID:UTC
BEGIN:STANDARD
DTSTART:20250724T123208Z
TZOFFSETFROM:+0000
TZOFFSETTO:+0000
END:STANDARD
END:VTIMEZONE
BEGIN:VEVENT
UID:1162-185
DTSTAMP:20260420T123208Z
SUMMARY:介護施設での不払い賃金裁判、神明会裁判は、５
 月９日（木）１１時３０分
LOCATION:大阪地方裁判所 北区西天満２丁目１−１０  大阪
 市 大阪府 530-0047
ORGANIZER;CN=Nakama Uniom:MAILTO:mail@nakama-union.org
DTSTART;TZID=Asia/Tokyo:20240509T113000
DTEND;TZID=Asia/Tokyo:20240509T123000
X-ALT-DESC;FMTTYPE=TEXT/HTML:２０２３年１月18日、なかまユニ
 オン神明会ラ・アケソニア分会が、医療法人神明会に
 対して未払い残業代６千万円余り&amp;hellip\;
CATEGORIES:General
URL;VALUE=URI:https://www.nakama-union.org/mc-events/%e4%bb%8b%e8%ad%b7%e6%
 96%bd%e8%a8%ad%e3%81%a7%e3%81%ae%e4%b8%8d%e6%89%95%e3%81%84%e8%b3%83%e9%87
 %91%e8%a3%81%e5%88%a4%e3%80%81%e7%a5%9e%e6%98%8e%e4%bc%9a%e8%a3%81%e5%88%a
 4%e3%81%af%e3%80%81%ef%bc%95
METHOD:PUBLISH
END:VEVENT
END:VCALENDAR