BEGIN:VCALENDAR
VERSION:2.0
PRODID:spatie/icalendar-generator
DESCRIPTION:なかまユニオン労働相談センターのイベント
X-WR-CALDESC:なかまユニオン労働相談センターのイベント
REFRESH-INTERVAL;VALUE=DURATION:PT1440M
X-PUBLISHED-TTL:PT1440M
BEGIN:VTIMEZONE
TZID:Asia/Tokyo
BEGIN:STANDARD
DTSTART:20231009T160000Z
TZOFFSETFROM:+0900
TZOFFSETTO:+0900
END:STANDARD
END:VTIMEZONE
BEGIN:VTIMEZONE
TZID:UTC
BEGIN:STANDARD
DTSTART:20250724T122408Z
TZOFFSETFROM:+0000
TZOFFSETTO:+0000
END:STANDARD
END:VTIMEZONE
BEGIN:VEVENT
UID:1169-193
DTSTAMP:20260420T122408Z
SUMMARY:ボンカレーの大塚食品　内部通報者への報復裁判
 は、７月５日です。
LOCATION:
ORGANIZER;CN=Nakama Uniom:MAILTO:mail@nakama-union.org
DTSTART;TZID=Asia/Tokyo:20240705T160000
DTEND;TZID=Asia/Tokyo:20240705T170000
X-ALT-DESC;FMTTYPE=TEXT/HTML:５月１３日、なかまユニオンの組
 合員がボンカレーの大塚食品に対して、内部通報への
 報復措置の中止を求めて、損害賠償&amp;hellip\;
CATEGORIES:General
URL;VALUE=URI:https://www.nakama-union.org/mc-events/%e3%83%9c%e3%83%b3%e3%
 82%ab%e3%83%ac%e3%83%bc%e3%81%ae%e5%a4%a7%e5%a1%9a%e9%a3%9f%e5%93%81%e3%80
 %80%e5%86%85%e9%83%a8%e9%80%9a%e5%a0%b1%e8%80%85%e3%81%b8%e3%81%ae%e5%a0%b
 1%e5%be%a9%e8%a3%81%e5%88%a4
METHOD:PUBLISH
END:VEVENT
END:VCALENDAR