BEGIN:VCALENDAR
VERSION:2.0
PRODID:spatie/icalendar-generator
DESCRIPTION:なかまユニオン労働相談センターのイベント
X-WR-CALDESC:なかまユニオン労働相談センターのイベント
REFRESH-INTERVAL;VALUE=DURATION:PT1440M
X-PUBLISHED-TTL:PT1440M
BEGIN:VTIMEZONE
TZID:Asia/Tokyo
BEGIN:STANDARD
DTSTART:20240428T110000Z
TZOFFSETFROM:+0900
TZOFFSETTO:+0900
END:STANDARD
END:VTIMEZONE
BEGIN:VTIMEZONE
TZID:UTC
BEGIN:STANDARD
DTSTART:20250724T144402Z
TZOFFSETFROM:+0000
TZOFFSETTO:+0000
END:STANDARD
END:VTIMEZONE
BEGIN:VEVENT
UID:1175-197
DTSTAMP:20260420T144402Z
SUMMARY:神明会は残業代を払え！裁判⑪は、１月２３日
LOCATION:
ORGANIZER;CN=Nakama Uniom:MAILTO:mail@nakama-union.org
DTSTART;TZID=Asia/Tokyo:20250123T110000
DTEND;TZID=Asia/Tokyo:20250123T120000
X-ALT-DESC;FMTTYPE=TEXT/HTML:１月２３日　１１時　大阪地裁６
 ０８号法廷 多数の傍聴をお願いします。
CATEGORIES:General
URL;VALUE=URI:https://www.nakama-union.org/mc-events/%e7%a5%9e%e6%98%8e%e4%
 bc%9a%e3%81%af%e6%ae%8b%e6%a5%ad%e4%bb%a3%e3%82%92%e6%89%95%e3%81%88%ef%bc
 %81%e8%a3%81%e5%88%a4%e2%91%aa%e3%81%af%e3%80%81%ef%bc%91%e6%9c%88%ef%bc%9
 2%ef%bc%93%e6%97%a5
METHOD:PUBLISH
END:VEVENT
END:VCALENDAR