BEGIN:VCALENDAR
VERSION:2.0
PRODID:spatie/icalendar-generator
DESCRIPTION:なかまユニオン労働相談センターのイベント
X-WR-CALDESC:なかまユニオン労働相談センターのイベント
REFRESH-INTERVAL;VALUE=DURATION:PT1440M
X-PUBLISHED-TTL:PT1440M
BEGIN:VTIMEZONE
TZID:Asia/Tokyo
BEGIN:STANDARD
DTSTART:20240313T140000Z
TZOFFSETFROM:+0900
TZOFFSETTO:+0900
END:STANDARD
END:VTIMEZONE
BEGIN:VTIMEZONE
TZID:UTC
BEGIN:STANDARD
DTSTART:20250724T134453Z
TZOFFSETFROM:+0000
TZOFFSETTO:+0000
END:STANDARD
END:VTIMEZONE
BEGIN:VEVENT
UID:1176-198
DTSTAMP:20260420T134453Z
SUMMARY:神明会は、分会長の雇止めを撤回せよ！１２・８
 デモ
LOCATION:箕面市　木戸ケ池緑地　箕面萱野駅　下車５分
ORGANIZER;CN=Nakama Uniom:MAILTO:mail@nakama-union.org
DTSTART;TZID=Asia/Tokyo:20241208T140000
DTEND;TZID=Asia/Tokyo:20241208T150000
X-ALT-DESC;FMTTYPE=TEXT/HTML:１２月８日　１４時集合　１４時
 ３０分デモ出発。 木戸が池緑地　（箕面萱野駅） 今回
 で３回目のデモになります。当&amp;hellip\;
CATEGORIES:General
URL;VALUE=URI:https://www.nakama-union.org/mc-events/%e7%a5%9e%e6%98%8e%e4%
 bc%9a%e3%81%af%e3%80%81%e5%88%86%e4%bc%9a%e9%95%b7%e3%81%ae%e9%9b%87%e6%ad
 %a2%e3%82%81%e3%82%92%e6%92%a4%e5%9b%9e%e3%81%9b%e3%82%88%ef%bc%81%ef%bc%9
 1%ef%bc%92%e3%83%bb%ef%bc%98
METHOD:PUBLISH
END:VEVENT
END:VCALENDAR