BEGIN:VCALENDAR
VERSION:2.0
PRODID:spatie/icalendar-generator
DESCRIPTION:なかまユニオン労働相談センターのイベント
X-WR-CALDESC:なかまユニオン労働相談センターのイベント
REFRESH-INTERVAL;VALUE=DURATION:PT1440M
X-PUBLISHED-TTL:PT1440M
BEGIN:VTIMEZONE
TZID:Asia/Tokyo
BEGIN:STANDARD
DTSTART:20250116T104500Z
TZOFFSETFROM:+0900
TZOFFSETTO:+0900
END:STANDARD
END:VTIMEZONE
BEGIN:VTIMEZONE
TZID:UTC
BEGIN:STANDARD
DTSTART:20250724T135015Z
TZOFFSETFROM:+0000
TZOFFSETTO:+0000
END:STANDARD
END:VTIMEZONE
BEGIN:VEVENT
UID:1181-203
DTSTAMP:20260420T135015Z
SUMMARY:団結まつりに集合！世界に届け！来て！「殺すな
 」パレスチナ連帯アクション
LOCATION:
ORGANIZER;CN=Nakama Uniom:MAILTO:mail@nakama-union.org
DTSTART;TZID=Asia/Tokyo:20251013T104500
DTEND;TZID=Asia/Tokyo:20251013T160000
X-ALT-DESC;FMTTYPE=TEXT/HTML:大阪の扇町公園にて今年も【団結
 まつり】を開催いたします！参加費500円、お土産付き
 です。 世界と連帯し、パレス&amp;hellip\;
CATEGORIES:General
URL;VALUE=URI:https://www.nakama-union.org/mc-events/%e5%9b%a3%e7%b5%90%e3%
 81%be%e3%81%a4%e3%82%8a%e3%81%ab%e9%9b%86%e5%90%88%ef%bc%81%e4%b8%96%e7%95
 %8c%e3%81%ab%e5%b1%8a%e3%81%91%ef%bc%81%e6%9d%a5%e3%81%a6%ef%bc%81%e3%80%8
 c%e6%ae%ba%e3%81%99%e3%81%aa
METHOD:PUBLISH
END:VEVENT
END:VCALENDAR