BEGIN:VCALENDAR
VERSION:2.0
PRODID:spatie/icalendar-generator
DESCRIPTION:なかまユニオン労働相談センターのイベント
X-WR-CALDESC:なかまユニオン労働相談センターのイベント
REFRESH-INTERVAL;VALUE=DURATION:PT1440M
X-PUBLISHED-TTL:PT1440M
BEGIN:VTIMEZONE
TZID:Asia/Tokyo
BEGIN:STANDARD
DTSTART:20250831T104500Z
TZOFFSETFROM:+0900
TZOFFSETTO:+0900
END:STANDARD
END:VTIMEZONE
BEGIN:VTIMEZONE
TZID:UTC
BEGIN:STANDARD
DTSTART:20250724T105738Z
TZOFFSETFROM:+0000
TZOFFSETTO:+0000
END:STANDARD
END:VTIMEZONE
BEGIN:VEVENT
UID:1186-208
DTSTAMP:20260420T105738Z
SUMMARY:神明会裁判期日《5月28日(木)》
LOCATION:
ORGANIZER;CN=Nakama Uniom:MAILTO:mail@nakama-union.org
DTSTART;TZID=Asia/Tokyo:20260528T104500
DTEND;TZID=Asia/Tokyo:20260528T114500
X-ALT-DESC;FMTTYPE=TEXT/HTML:日時：５月２８日(木)１０時４５
 分～ 場所：大阪地裁６０８号
CATEGORIES:裁判期日
URL;VALUE=URI:https://www.nakama-union.org/mc-events/%e7%a5%9e%e6%98%8e%e4%
 bc%9a%e8%a3%81%e5%88%a4%e6%9c%9f%e6%97%a5%e3%80%8a5%e6%9c%8828%e6%97%a5%e6
 %9c%a8%e3%80%8b
METHOD:PUBLISH
END:VEVENT
END:VCALENDAR