BEGIN:VCALENDAR
VERSION:2.0
PRODID:spatie/icalendar-generator
DESCRIPTION:なかまユニオン労働相談センターのイベント
X-WR-CALDESC:なかまユニオン労働相談センターのイベント
REFRESH-INTERVAL;VALUE=DURATION:PT1440M
X-PUBLISHED-TTL:PT1440M
BEGIN:VTIMEZONE
TZID:Asia/Tokyo
BEGIN:STANDARD
DTSTART:20250727T190000Z
TZOFFSETFROM:+0900
TZOFFSETTO:+0900
END:STANDARD
END:VTIMEZONE
BEGIN:VTIMEZONE
TZID:UTC
BEGIN:STANDARD
DTSTART:20250724T104231Z
TZOFFSETFROM:+0000
TZOFFSETTO:+0000
END:STANDARD
END:VTIMEZONE
BEGIN:VEVENT
UID:1190-211
DTSTAMP:20260420T104231Z
SUMMARY:大阪地域の組合員交流会《４月２３日》
LOCATION:
ORGANIZER;CN=Nakama Uniom:MAILTO:mail@nakama-union.org
DTSTART;TZID=Asia/Tokyo:20260423T190000
DTEND;TZID=Asia/Tokyo:20260423T203000
X-ALT-DESC;FMTTYPE=TEXT/HTML:日時：４月２３日１９時～ 場所：
 なかまユニオン京橋事務所 ・前半に労働法の勉強会、
 後半に事件当該組合員からの事&amp;hellip\;
CATEGORIES:General
URL;VALUE=URI:https://www.nakama-union.org/mc-events/%e5%a4%a7%e9%98%aa%e5%
 9c%b0%e5%9f%9f%e3%81%ae%e7%b5%84%e5%90%88%e5%93%a1%e4%ba%a4%e6%b5%81%e4%bc
 %9a%e3%80%8a%ef%bc%94%e6%9c%88%ef%bc%92%ef%bc%93%e6%97%a5%e3%80%8b
METHOD:PUBLISH
END:VEVENT
END:VCALENDAR