BEGIN:VCALENDAR
VERSION:2.0
PRODID:spatie/icalendar-generator
DESCRIPTION:なかまユニオン労働相談センターのイベント
X-WR-CALDESC:なかまユニオン労働相談センターのイベント
REFRESH-INTERVAL;VALUE=DURATION:PT1440M
X-PUBLISHED-TTL:PT1440M
BEGIN:VTIMEZONE
TZID:Asia/Tokyo
BEGIN:STANDARD
DTSTART:20230212T103000Z
TZOFFSETFROM:+0900
TZOFFSETTO:+0900
END:STANDARD
END:VTIMEZONE
BEGIN:VTIMEZONE
TZID:UTC
BEGIN:STANDARD
DTSTART:20250724T121509Z
TZOFFSETFROM:+0000
TZOFFSETTO:+0000
END:STANDARD
END:VTIMEZONE
BEGIN:VEVENT
UID:1137-166
DTSTAMP:20260420T121509Z
SUMMARY:神明会は残業代を払え！裁判
LOCATION:
ORGANIZER;CN=Nakama Uniom:MAILTO:mail@nakama-union.org
DTSTART;TZID=Asia/Tokyo:20231109T103000
DTEND;TZID=Asia/Tokyo:20231109T113000
X-ALT-DESC;FMTTYPE=TEXT/HTML:老人健康施設ラ・アケソニアで働
 く労働者が神明会に膨大な未払い残業代を請求。 10時30
 分　大阪地裁 404号法&amp;hellip\;
CATEGORIES:General
URL;VALUE=URI:https://www.nakama-union.org/mc-events/%e7%a5%9e%e6%98%8e%e4%
 bc%9a%e3%81%af%e6%ae%8b%e6%a5%ad%e4%bb%a3%e3%82%92%e6%89%95%e3%81%88%ef%bc
 %81%e8%a3%81%e5%88%a4
METHOD:PUBLISH
END:VEVENT
END:VCALENDAR