BEGIN:VCALENDAR
VERSION:2.0
PRODID:spatie/icalendar-generator
DESCRIPTION:なかまユニオン労働相談センターのイベント
X-WR-CALDESC:なかまユニオン労働相談センターのイベント
REFRESH-INTERVAL;VALUE=DURATION:PT1440M
X-PUBLISHED-TTL:PT1440M
BEGIN:VTIMEZONE
TZID:Asia/Tokyo
BEGIN:STANDARD
DTSTART:20230303T100000Z
TZOFFSETFROM:+0900
TZOFFSETTO:+0900
END:STANDARD
END:VTIMEZONE
BEGIN:VTIMEZONE
TZID:UTC
BEGIN:STANDARD
DTSTART:20250724T133702Z
TZOFFSETFROM:+0000
TZOFFSETTO:+0000
END:STANDARD
END:VTIMEZONE
BEGIN:VEVENT
UID:1138-167
DTSTAMP:20260420T133702Z
SUMMARY:秋季大阪総行動
LOCATION:
ORGANIZER;CN=Nakama Uniom:MAILTO:mail@nakama-union.org
DTSTART;TZID=Asia/Tokyo:20231128T100000
DTEND;TZID=Asia/Tokyo:20231128T110000
X-ALT-DESC;FMTTYPE=TEXT/HTML:おおさかユニオンネットワーク主
 催で、参加各労組の争議解決を求める１日行動を行い
 ます。 &amp;nbsp\;
CATEGORIES:General
URL;VALUE=URI:https://www.nakama-union.org/mc-events/%e7%a7%8b%e5%ad%a3%e5%
 a4%a7%e9%98%aa%e7%b7%8f%e8%a1%8c%e5%8b%95-2
METHOD:PUBLISH
END:VEVENT
END:VCALENDAR