BEGIN:VCALENDAR
VERSION:2.0
PRODID:spatie/icalendar-generator
DESCRIPTION:なかまユニオン労働相談センターのイベント
X-WR-CALDESC:なかまユニオン労働相談センターのイベント
REFRESH-INTERVAL;VALUE=DURATION:PT1440M
X-PUBLISHED-TTL:PT1440M
BEGIN:VTIMEZONE
TZID:Asia/Tokyo
BEGIN:STANDARD
DTSTART:20230213T103000Z
TZOFFSETFROM:+0900
TZOFFSETTO:+0900
END:STANDARD
END:VTIMEZONE
BEGIN:VTIMEZONE
TZID:UTC
BEGIN:STANDARD
DTSTART:20250724T121538Z
TZOFFSETFROM:+0000
TZOFFSETTO:+0000
END:STANDARD
END:VTIMEZONE
BEGIN:VEVENT
UID:1142-169
DTSTAMP:20260420T121538Z
SUMMARY:ニホンゲンマの不当解雇撤回！裁判①
LOCATION:
ORGANIZER;CN=Nakama Uniom:MAILTO:mail@nakama-union.org
DTSTART;TZID=Asia/Tokyo:20231110T103000
DTEND;TZID=Asia/Tokyo:20231110T113000
X-ALT-DESC;FMTTYPE=TEXT/HTML:労災を申請したことをきっかけに
 退職強要を受けた挙句に、普通解雇された事件。大阪
 地裁４０４号法廷。
CATEGORIES:General
URL;VALUE=URI:https://www.nakama-union.org/mc-events/%e3%83%8b%e3%83%9b%e3%
 83%b3%e3%82%b2%e3%83%b3%e3%83%9e%e3%81%ae%e4%b8%8d%e5%bd%93%e8%a7%a3%e9%9b
 %87%e6%92%a4%e5%9b%9e%ef%bc%81%e8%a3%81%e5%88%a4%e2%91%a0
METHOD:PUBLISH
END:VEVENT
END:VCALENDAR