BEGIN:VCALENDAR
VERSION:2.0
PRODID:spatie/icalendar-generator
DESCRIPTION:なかまユニオン労働相談センターのイベント
X-WR-CALDESC:なかまユニオン労働相談センターのイベント
REFRESH-INTERVAL;VALUE=DURATION:PT1440M
X-PUBLISHED-TTL:PT1440M
BEGIN:VTIMEZONE
TZID:Asia/Tokyo
BEGIN:STANDARD
DTSTART:20230306T150000Z
TZOFFSETFROM:+0900
TZOFFSETTO:+0900
END:STANDARD
END:VTIMEZONE
BEGIN:VTIMEZONE
TZID:UTC
BEGIN:STANDARD
DTSTART:20250724T121020Z
TZOFFSETFROM:+0000
TZOFFSETTO:+0000
END:STANDARD
END:VTIMEZONE
BEGIN:VEVENT
UID:1143-171
DTSTAMP:20260420T121020Z
SUMMARY:阪急交通社労働委員会⑤：団交拒否
LOCATION:
ORGANIZER;CN=Nakama Uniom:MAILTO:mail@nakama-union.org
DTSTART;TZID=Asia/Tokyo:20231201T150000
DTEND;TZID=Asia/Tokyo:20231201T160000
X-ALT-DESC;FMTTYPE=TEXT/HTML:阪急交通社の団交拒否の救済を申
 し立てています。
CATEGORIES:General
URL;VALUE=URI:https://www.nakama-union.org/mc-events/%e9%98%aa%e6%80%a5%e4%
 ba%a4%e9%80%9a%e7%a4%be%e5%8a%b4%e5%83%8d%e5%a7%94%e5%93%a1%e4%bc%9a%e2%91
 %a4%ef%bc%9a%e5%9b%a3%e4%ba%a4%e6%8b%92%e5%90%a6
METHOD:PUBLISH
END:VEVENT
END:VCALENDAR