BEGIN:VCALENDAR
VERSION:2.0
PRODID:spatie/icalendar-generator
DESCRIPTION:なかまユニオン労働相談センターのイベント
X-WR-CALDESC:なかまユニオン労働相談センターのイベント
REFRESH-INTERVAL;VALUE=DURATION:PT1440M
X-PUBLISHED-TTL:PT1440M
BEGIN:VTIMEZONE
TZID:Asia/Tokyo
BEGIN:STANDARD
DTSTART:20230406T100000Z
TZOFFSETFROM:+0900
TZOFFSETTO:+0900
END:STANDARD
END:VTIMEZONE
BEGIN:VTIMEZONE
TZID:UTC
BEGIN:STANDARD
DTSTART:20250724T104347Z
TZOFFSETFROM:+0000
TZOFFSETTO:+0000
END:STANDARD
END:VTIMEZONE
BEGIN:VEVENT
UID:1145-173
DTSTAMP:20260420T104347Z
SUMMARY:２０２４年反弾圧元旦行動
LOCATION:大阪府警察本部
ORGANIZER;CN=Nakama Uniom:MAILTO:mail@nakama-union.org
DTSTART;TZID=Asia/Tokyo:20240101T100000
DTEND;TZID=Asia/Tokyo:20240101T110000
X-ALT-DESC;FMTTYPE=TEXT/HTML:労働組合つぶしを許さない元旦行
 動 １月１日１０時　大阪府警前
CATEGORIES:General
URL;VALUE=URI:https://www.nakama-union.org/mc-events/%ef%bc%92%ef%bc%90%ef%
 bc%92%ef%bc%94%e5%b9%b4%e5%8f%8d%e5%bc%be%e5%9c%a7%e5%85%83%e6%97%a6%e8%a1
 %8c%e5%8b%95
METHOD:PUBLISH
END:VEVENT
END:VCALENDAR