BEGIN:VCALENDAR
VERSION:2.0
PRODID:spatie/icalendar-generator
DESCRIPTION:なかまユニオン労働相談センターのイベント
X-WR-CALDESC:なかまユニオン労働相談センターのイベント
REFRESH-INTERVAL;VALUE=DURATION:PT1440M
X-PUBLISHED-TTL:PT1440M
BEGIN:VTIMEZONE
TZID:Asia/Tokyo
BEGIN:STANDARD
DTSTART:20230312T113000Z
TZOFFSETFROM:+0900
TZOFFSETTO:+0900
END:STANDARD
END:VTIMEZONE
BEGIN:VTIMEZONE
TZID:UTC
BEGIN:STANDARD
DTSTART:20250724T110110Z
TZOFFSETFROM:+0000
TZOFFSETTO:+0000
END:STANDARD
END:VTIMEZONE
BEGIN:VEVENT
UID:1147-175
DTSTAMP:20260420T110110Z
SUMMARY:ニホンゲンマの不当解雇撤回！裁判②
LOCATION:
ORGANIZER;CN=Nakama Uniom:MAILTO:mail@nakama-union.org
DTSTART;TZID=Asia/Tokyo:20231207T113000
DTEND;TZID=Asia/Tokyo:20231207T123000
X-ALT-DESC;FMTTYPE=TEXT/HTML:労災を申請した翌日に退職を勧奨
 され、挙句の果てにニホンゲンマに解雇されました。
 従業員としての地位の確認を求めて&amp;hellip\;
CATEGORIES:General
URL;VALUE=URI:https://www.nakama-union.org/mc-events/%e3%83%8b%e3%83%9b%e3%
 83%b3%e3%82%b2%e3%83%b3%e3%83%9e%e3%81%ae%e4%b8%8d%e5%bd%93%e8%a7%a3%e9%9b
 %87%e6%92%a4%e5%9b%9e%ef%bc%81%e8%a3%81%e5%88%a4%e2%91%a1
METHOD:PUBLISH
END:VEVENT
END:VCALENDAR