BEGIN:VCALENDAR
VERSION:2.0
PRODID:spatie/icalendar-generator
DESCRIPTION:なかまユニオン労働相談センターのイベント
X-WR-CALDESC:なかまユニオン労働相談センターのイベント
REFRESH-INTERVAL;VALUE=DURATION:PT1440M
X-PUBLISHED-TTL:PT1440M
BEGIN:VTIMEZONE
TZID:Asia/Tokyo
BEGIN:STANDARD
DTSTART:20230419T130000Z
TZOFFSETFROM:+0900
TZOFFSETTO:+0900
END:STANDARD
END:VTIMEZONE
BEGIN:VTIMEZONE
TZID:UTC
BEGIN:STANDARD
DTSTART:20250724T110056Z
TZOFFSETFROM:+0000
TZOFFSETTO:+0000
END:STANDARD
END:VTIMEZONE
BEGIN:VEVENT
UID:1152-180
DTSTAMP:20260420T110056Z
SUMMARY:2024 なかまユニオン旗開き
LOCATION:
ORGANIZER;CN=Nakama Uniom:MAILTO:mail@nakama-union.org
DTSTART;TZID=Asia/Tokyo:20240114T130000
DTEND;TZID=Asia/Tokyo:20240114T150000
X-ALT-DESC;FMTTYPE=TEXT/HTML:普段、なかなか会えない 組合員と
 の交流のチャンス！ １年間を振り返るスライドショー 
 川柳大会やダンスなど盛沢山&amp;hellip\;
CATEGORIES:General
URL;VALUE=URI:https://www.nakama-union.org/mc-events/2024-%e3%81%aa%e3%81%8
 b%e3%81%be%e3%83%a6%e3%83%8b%e3%82%aa%e3%83%b3%e6%97%97%e9%96%8b%e3%81%8d
METHOD:PUBLISH
END:VEVENT
END:VCALENDAR