BEGIN:VCALENDAR
VERSION:2.0
PRODID:spatie/icalendar-generator
DESCRIPTION:なかまユニオン労働相談センターのイベント
X-WR-CALDESC:なかまユニオン労働相談センターのイベント
REFRESH-INTERVAL;VALUE=DURATION:PT1440M
X-PUBLISHED-TTL:PT1440M
BEGIN:VTIMEZONE
TZID:Asia/Tokyo
BEGIN:STANDARD
DTSTART:20230628T140000Z
TZOFFSETFROM:+0900
TZOFFSETTO:+0900
END:STANDARD
END:VTIMEZONE
BEGIN:VTIMEZONE
TZID:UTC
BEGIN:STANDARD
DTSTART:20250724T110432Z
TZOFFSETFROM:+0000
TZOFFSETTO:+0000
END:STANDARD
END:VTIMEZONE
BEGIN:VEVENT
UID:1156-184
DTSTAMP:20260420T110432Z
SUMMARY:3/24 なんとかしろ物価高！賃金上げろ春闘デモで
 、叫ぼう！
LOCATION:堀江公園 西区南堀江１丁目１３  大阪市 大阪府 5
 50-0015
ORGANIZER;CN=Nakama Uniom:MAILTO:mail@nakama-union.org
DTSTART;TZID=Asia/Tokyo:20240324T140000
DTEND;TZID=Asia/Tokyo:20240324T154000
X-ALT-DESC;FMTTYPE=TEXT/HTML:物価が高止まりし、実質賃金が下
 がり続けています。物価高に負けない賃金アップを目
 指しましょう！万博・カジノ・軍拡&amp;hellip\;
CATEGORIES:General
URL;VALUE=URI:https://www.nakama-union.org/mc-events/3-24-%e3%81%aa%e3%82%9
 3%e3%81%a8%e3%81%8b%e3%81%97%e3%82%8d%e7%89%a9%e4%be%a1%e9%ab%98%ef%bc%81%
 e8%b3%83%e9%87%91%e4%b8%8a%e3%81%92%e3%82%8d%e6%98%a5%e9%97%98%e3%83%87%e3
 %83%a2%e3%81%a7%e3%80%81
METHOD:PUBLISH
END:VEVENT
END:VCALENDAR