BEGIN:VCALENDAR
VERSION:2.0
PRODID:spatie/icalendar-generator
DESCRIPTION:なかまユニオン労働相談センターのイベント
X-WR-CALDESC:なかまユニオン労働相談センターのイベント
REFRESH-INTERVAL;VALUE=DURATION:PT1440M
X-PUBLISHED-TTL:PT1440M
BEGIN:VTIMEZONE
TZID:Asia/Tokyo
BEGIN:STANDARD
DTSTART:20230624T000000Z
TZOFFSETFROM:+0900
TZOFFSETTO:+0900
END:STANDARD
END:VTIMEZONE
BEGIN:VTIMEZONE
TZID:UTC
BEGIN:STANDARD
DTSTART:20250724T121402Z
TZOFFSETFROM:+0000
TZOFFSETTO:+0000
END:STANDARD
END:VTIMEZONE
BEGIN:VEVENT
UID:1165-191
DTSTAMP:20260420T121402Z
SUMMARY:#なか卯非正規春闘　応援キャンペーンに力を貸し
 てください。3月20日、21日にお近くのなか卯前に！
LOCATION:
ORGANIZER;CN=Nakama Uniom:MAILTO:mail@nakama-union.org
DTSTART;TZID=Asia/Tokyo;VALUE=DATE:20240320
DTEND;TZID=Asia/Tokyo;VALUE=DATE:20240322
X-ALT-DESC;FMTTYPE=TEXT/HTML:・なかまユニオンは、大幅賃上げ
 を目指して、なか卯に対して非正規労働者の賃金を①
 １５％引き上げ②更衣時間7分間の&amp;hellip\;
CATEGORIES:General
URL;VALUE=URI:https://www.nakama-union.org/mc-events/%e3%81%aa%e3%81%8b%e5%
 8d%af%e9%9d%9e%e6%ad%a3%e8%a6%8f%e6%98%a5%e9%97%98%e3%80%80%e5%bf%9c%e6%8f
 %b4%e3%82%ad%e3%83%a3%e3%83%b3%e3%83%9a%e3%83%bc%e3%83%b3%e3%81%ab%e5%8a%9
 b%e3%82%92%e8%b2%b8%e3%81%97
METHOD:PUBLISH
END:VEVENT
END:VCALENDAR