BEGIN:VCALENDAR
VERSION:2.0
PRODID:spatie/icalendar-generator
DESCRIPTION:なかまユニオン労働相談センターのイベント
X-WR-CALDESC:なかまユニオン労働相談センターのイベント
REFRESH-INTERVAL;VALUE=DURATION:PT1440M
X-PUBLISHED-TTL:PT1440M
BEGIN:VTIMEZONE
TZID:Asia/Tokyo
BEGIN:STANDARD
DTSTART:20230805T133000Z
TZOFFSETFROM:+0900
TZOFFSETTO:+0900
END:STANDARD
END:VTIMEZONE
BEGIN:VTIMEZONE
TZID:UTC
BEGIN:STANDARD
DTSTART:20250724T121411Z
TZOFFSETFROM:+0000
TZOFFSETTO:+0000
END:STANDARD
END:VTIMEZONE
BEGIN:VEVENT
UID:1167-192
DTSTAMP:20260420T121411Z
SUMMARY:戦争やめろ！物価高を打ち破る賃上げを！第９５
 回中之島メーデー
LOCATION:
ORGANIZER;CN=Nakama Uniom:MAILTO:mail@nakama-union.org
DTSTART;TZID=Asia/Tokyo:20240501T133000
DTEND;TZID=Asia/Tokyo:20240501T143000
X-ALT-DESC;FMTTYPE=TEXT/HTML:戦争やめろ！物価高を打ち破る賃
 上げを！第９５回中之島メーデー ５月１日（水）１３
 時３０分中之島公園剣先広場 《&amp;hellip\;
CATEGORIES:General
URL;VALUE=URI:https://www.nakama-union.org/mc-events/%e6%88%a6%e4%ba%89%e3%
 82%84%e3%82%81%e3%82%8d%ef%bc%81%e7%89%a9%e4%be%a1%e9%ab%98%e3%82%92%e6%89
 %93%e3%81%a1%e7%a0%b4%e3%82%8b%e8%b3%83%e4%b8%8a%e3%81%92%e3%82%92%ef%bc%8
 1%e7%ac%ac%ef%bc%99%ef%bc%95
METHOD:PUBLISH
END:VEVENT
END:VCALENDAR