BEGIN:VCALENDAR
VERSION:2.0
PRODID:spatie/icalendar-generator
DESCRIPTION:なかまユニオン労働相談センターのイベント
X-WR-CALDESC:なかまユニオン労働相談センターのイベント
REFRESH-INTERVAL;VALUE=DURATION:PT1440M
X-PUBLISHED-TTL:PT1440M
BEGIN:VTIMEZONE
TZID:Asia/Tokyo
BEGIN:STANDARD
DTSTART:20230903T183000Z
TZOFFSETFROM:+0900
TZOFFSETTO:+0900
END:STANDARD
END:VTIMEZONE
BEGIN:VTIMEZONE
TZID:UTC
BEGIN:STANDARD
DTSTART:20250724T132329Z
TZOFFSETFROM:+0000
TZOFFSETTO:+0000
END:STANDARD
END:VTIMEZONE
BEGIN:VEVENT
UID:1168-190
DTSTAMP:20260420T132329Z
SUMMARY:なか卯春闘　第３団体交渉が５月３０日に決定！
 多数のみなさんの注目を
LOCATION:
ORGANIZER;CN=Nakama Uniom:MAILTO:mail@nakama-union.org
DTSTART;TZID=Asia/Tokyo:20240530T183000
DTEND;TZID=Asia/Tokyo:20240530T200000
X-ALT-DESC;FMTTYPE=TEXT/HTML:非正規春闘実行委員会・なかまユ
 ニオンは、外食チェーンなか卯に対して、以下の要求
 を提出し交渉を進めています。 ①&amp;hellip\;
CATEGORIES:General
URL;VALUE=URI:https://www.nakama-union.org/mc-events/%e3%81%aa%e3%81%8b%e5%
 8d%af%e6%98%a5%e9%97%98%e3%80%80%e7%ac%ac%ef%bc%93%e5%9b%a3%e4%bd%93%e4%ba
 %a4%e6%b8%89%e3%81%8c%ef%bc%95%e6%9c%88%ef%bc%93%ef%bc%90%e6%97%a5%e3%81%a
 b%e6%b1%ba%e5%ae%9a%ef%bc%81
METHOD:PUBLISH
END:VEVENT
END:VCALENDAR