BEGIN:VCALENDAR
VERSION:2.0
PRODID:spatie/icalendar-generator
DESCRIPTION:なかまユニオン労働相談センターのイベント
X-WR-CALDESC:なかまユニオン労働相談センターのイベント
REFRESH-INTERVAL;VALUE=DURATION:PT1440M
X-PUBLISHED-TTL:PT1440M
BEGIN:VTIMEZONE
TZID:Asia/Tokyo
BEGIN:STANDARD
DTSTART:20231016T103000Z
TZOFFSETFROM:+0900
TZOFFSETTO:+0900
END:STANDARD
END:VTIMEZONE
BEGIN:VTIMEZONE
TZID:UTC
BEGIN:STANDARD
DTSTART:20250724T133437Z
TZOFFSETFROM:+0000
TZOFFSETTO:+0000
END:STANDARD
END:VTIMEZONE
BEGIN:VEVENT
UID:1171-182
DTSTAMP:20260420T133437Z
SUMMARY:㈱ニホンゲンマの不当解雇撤回を求める裁判⑥は
 ７月１２日です。就労闘争は、第１第３月曜日。
LOCATION:大阪地方裁判所 北区西天満２丁目１−１０  大阪
 市 大阪府 530-0047
ORGANIZER;CN=Nakama Uniom:MAILTO:mail@nakama-union.org
DTSTART;TZID=Asia/Tokyo:20240712T103000
DTEND;TZID=Asia/Tokyo:20240712T110000
X-ALT-DESC;FMTTYPE=TEXT/HTML:４月１２日第４回裁判で会社側が
 いう解雇理由に全面的に反論する準備書面を提出しま
 した。同時に、原告側が持っている&amp;hellip\;
CATEGORIES:General
URL;VALUE=URI:https://www.nakama-union.org/mc-events/%e3%88%b1%e3%83%8b%e3%
 83%9b%e3%83%b3%e3%82%b2%e3%83%b3%e3%83%9e%e3%81%ae%e4%b8%8d%e5%bd%93%e8%a7
 %a3%e9%9b%87%e6%92%a4%e5%9b%9e%e3%82%92%e6%b1%82%e3%82%81%e3%82%8b%e8%a3%8
 1%e5%88%a4%e2%91%a5%e3%81%af
METHOD:PUBLISH
END:VEVENT
END:VCALENDAR