BEGIN:VCALENDAR
VERSION:2.0
PRODID:spatie/icalendar-generator
DESCRIPTION:なかまユニオン労働相談センターのイベント
X-WR-CALDESC:なかまユニオン労働相談センターのイベント
REFRESH-INTERVAL;VALUE=DURATION:PT1440M
X-PUBLISHED-TTL:PT1440M
BEGIN:VTIMEZONE
TZID:Asia/Tokyo
BEGIN:STANDARD
DTSTART:20240229T090000Z
TZOFFSETFROM:+0900
TZOFFSETTO:+0900
END:STANDARD
END:VTIMEZONE
BEGIN:VTIMEZONE
TZID:UTC
BEGIN:STANDARD
DTSTART:20250724T105110Z
TZOFFSETFROM:+0000
TZOFFSETTO:+0000
END:STANDARD
END:VTIMEZONE
BEGIN:VEVENT
UID:1173-195
DTSTAMP:20260420T105110Z
SUMMARY:ニホンゲンマは、解雇撤回！大阪総行動
LOCATION:
ORGANIZER;CN=Nakama Uniom:MAILTO:mail@nakama-union.org
DTSTART;TZID=Asia/Tokyo:20241125T090000
DTEND;TZID=Asia/Tokyo:20241125T100000
X-ALT-DESC;FMTTYPE=TEXT/HTML:１１月２５日、おおさかユニオン
 ネットワーク主催の大阪総行動で、ニホンゲンマに要
 請行動を行います。多数のみなさん&amp;hellip\;
CATEGORIES:General
URL;VALUE=URI:https://www.nakama-union.org/mc-events/%e3%83%8b%e3%83%9b%e3%
 83%b3%e3%82%b2%e3%83%b3%e3%83%9e%e3%81%af%e3%80%81%e8%a7%a3%e9%9b%87%e6%92
 %a4%e5%9b%9e%ef%bc%81%e5%a4%a7%e9%98%aa%e7%b7%8f%e8%a1%8c%e5%8b%95
METHOD:PUBLISH
END:VEVENT
END:VCALENDAR