BEGIN:VCALENDAR
VERSION:2.0
PRODID:spatie/icalendar-generator
DESCRIPTION:なかまユニオン労働相談センターのイベント
X-WR-CALDESC:なかまユニオン労働相談センターのイベント
REFRESH-INTERVAL;VALUE=DURATION:PT1440M
X-PUBLISHED-TTL:PT1440M
BEGIN:VTIMEZONE
TZID:Asia/Tokyo
BEGIN:STANDARD
DTSTART:20240504T170100Z
TZOFFSETFROM:+0900
TZOFFSETTO:+0900
END:STANDARD
END:VTIMEZONE
BEGIN:VTIMEZONE
TZID:UTC
BEGIN:STANDARD
DTSTART:20250724T105145Z
TZOFFSETFROM:+0000
TZOFFSETTO:+0000
END:STANDARD
END:VTIMEZONE
BEGIN:VEVENT
UID:1178-200
DTSTAMP:20260420T105145Z
SUMMARY:非正規も賃上げを！着替え時間も労働！非正規春
 闘ホットライン
LOCATION:
ORGANIZER;CN=Nakama Uniom:MAILTO:mail@nakama-union.org
DTSTART;TZID=Asia/Tokyo:20250129T170100
DTEND;TZID=Asia/Tokyo:20250129T210000
X-ALT-DESC;FMTTYPE=TEXT/HTML:１月２８日１７時～２１時 １月２
 ９日１７時～２１時 ・組合に所属していない非正規の
 あなたも、会社に対して賃上げ&amp;hellip\;
CATEGORIES:General
URL;VALUE=URI:https://www.nakama-union.org/mc-events/%e9%9d%9e%e6%ad%a3%e8%
 a6%8f%e3%82%82%e8%b3%83%e4%b8%8a%e3%81%92%e3%82%92%ef%bc%81%e7%9d%80%e6%9b
 %bf%e3%81%88%e6%99%82%e9%96%93%e3%82%82%e5%8a%b4%e5%83%8d%ef%bc%81%e9%9d%9
 e%e6%ad%a3%e8%a6%8f%e6%98%a5
METHOD:PUBLISH
END:VEVENT
END:VCALENDAR