BEGIN:VCALENDAR
VERSION:2.0
PRODID:spatie/icalendar-generator
DESCRIPTION:なかまユニオン労働相談センターのイベント
X-WR-CALDESC:なかまユニオン労働相談センターのイベント
REFRESH-INTERVAL;VALUE=DURATION:PT1440M
X-PUBLISHED-TTL:PT1440M
BEGIN:VTIMEZONE
TZID:Asia/Tokyo
BEGIN:STANDARD
DTSTART:20250114T104500Z
TZOFFSETFROM:+0900
TZOFFSETTO:+0900
END:STANDARD
END:VTIMEZONE
BEGIN:VTIMEZONE
TZID:UTC
BEGIN:STANDARD
DTSTART:20250724T121412Z
TZOFFSETFROM:+0000
TZOFFSETTO:+0000
END:STANDARD
END:VTIMEZONE
BEGIN:VEVENT
UID:1180-202
DTSTAMP:20260420T121412Z
SUMMARY:ラ・アケソニア分会代表の雇止めを撤回せよ！10
 月11日デモ
LOCATION:
ORGANIZER;CN=Nakama Uniom:MAILTO:mail@nakama-union.org
DTSTART;TZID=Asia/Tokyo:20251011T104500
DTEND;TZID=Asia/Tokyo:20251011T114500
X-ALT-DESC;FMTTYPE=TEXT/HTML:(医)神明会が運営する老健施設ラ
 ・アケソニア(箕面市)で、分会代表が、定年後の委託雇
 用を拒否されました。分会代&amp;hellip\;
CATEGORIES:General
URL;VALUE=URI:https://www.nakama-union.org/mc-events/%e3%83%a9%e3%83%bb%e3%
 82%a2%e3%82%b1%e3%82%bd%e3%83%8b%e3%82%a2%e5%88%86%e4%bc%9a%e4%bb%a3%e8%a1
 %a8%e3%81%ae%e9%9b%87%e6%ad%a2%e3%82%81%e3%82%92%e6%92%a4%e5%9b%9e%e3%81%9
 b%e3%82%88%ef%bc%8110%e6%9c%88
METHOD:PUBLISH
END:VEVENT
END:VCALENDAR