BEGIN:VCALENDAR
VERSION:2.0
PRODID:spatie/icalendar-generator
DESCRIPTION:なかまユニオン労働相談センターのイベント
X-WR-CALDESC:なかまユニオン労働相談センターのイベント
REFRESH-INTERVAL;VALUE=DURATION:PT1440M
X-PUBLISHED-TTL:PT1440M
BEGIN:VTIMEZONE
TZID:Asia/Tokyo
BEGIN:STANDARD
DTSTART:20250216T113000Z
TZOFFSETFROM:+0900
TZOFFSETTO:+0900
END:STANDARD
END:VTIMEZONE
BEGIN:VTIMEZONE
TZID:UTC
BEGIN:STANDARD
DTSTART:20250724T111211Z
TZOFFSETFROM:+0000
TZOFFSETTO:+0000
END:STANDARD
END:VTIMEZONE
BEGIN:VEVENT
UID:1182-204
DTSTAMP:20260420T111211Z
SUMMARY:神明会ラ・アケソニア分会の不払い残業代請求の
 裁判
LOCATION:
ORGANIZER;CN=Nakama Uniom:MAILTO:mail@nakama-union.org
DTSTART;TZID=Asia/Tokyo:20251113T113000
DTEND;TZID=Asia/Tokyo:20251113T120000
X-ALT-DESC;FMTTYPE=TEXT/HTML:大阪地方裁判所608号法廷にて 【神
 明会不払い残業代請求訴訟】の口頭弁論期日が開かれ
 ます。
CATEGORIES:General
URL;VALUE=URI:https://www.nakama-union.org/mc-events/%e7%a5%9e%e6%98%8e%e4%
 bc%9a%e3%83%a9%e3%83%bb%e3%82%a2%e3%82%b1%e3%82%bd%e3%83%8b%e3%82%a2%e5%88
 %86%e4%bc%9a%e3%81%ae%e4%b8%8d%e6%89%95%e3%81%84%e6%ae%8b%e6%a5%ad%e4%bb%a
 3%e8%ab%8b%e6%b1%82%e3%81%ae
METHOD:PUBLISH
END:VEVENT
END:VCALENDAR