BEGIN:VCALENDAR
VERSION:2.0
PRODID:spatie/icalendar-generator
DESCRIPTION:なかまユニオン労働相談センターのイベント
X-WR-CALDESC:なかまユニオン労働相談センターのイベント
REFRESH-INTERVAL;VALUE=DURATION:PT1440M
X-PUBLISHED-TTL:PT1440M
BEGIN:VTIMEZONE
TZID:Asia/Tokyo
BEGIN:STANDARD
DTSTART:20250618T140000Z
TZOFFSETFROM:+0900
TZOFFSETTO:+0900
END:STANDARD
END:VTIMEZONE
BEGIN:VTIMEZONE
TZID:UTC
BEGIN:STANDARD
DTSTART:20250724T133708Z
TZOFFSETFROM:+0000
TZOFFSETTO:+0000
END:STANDARD
END:VTIMEZONE
BEGIN:VEVENT
UID:1183-205
DTSTAMP:20260420T133708Z
SUMMARY:なんとかしろ物価高！今すぐ賃金あげろ！２０２
 ６春闘デモ
LOCATION:
ORGANIZER;CN=Nakama Uniom:MAILTO:mail@nakama-union.org
DTSTART;TZID=Asia/Tokyo:20260315T140000
DTEND;TZID=Asia/Tokyo:20260315T164000
X-ALT-DESC;FMTTYPE=TEXT/HTML:2026春闘デモ：物価高を乗り越え、
 すべての労働者に「生きるための賃金」を！ いま、私
 たちの生活は危機に瀕して&amp;hellip\;
CATEGORIES:General
URL;VALUE=URI:https://www.nakama-union.org/mc-events/%e3%81%aa%e3%82%93%e3%
 81%a8%e3%81%8b%e3%81%97%e3%82%8d%e7%89%a9%e4%be%a1%e9%ab%98%ef%bc%81%e4%bb
 %8a%e3%81%99%e3%81%90%e8%b3%83%e9%87%91%e3%81%82%e3%81%92%e3%82%8d%ef%bc%8
 1%ef%bc%92%ef%bc%90%ef%bc%92
METHOD:PUBLISH
END:VEVENT
END:VCALENDAR