BEGIN:VCALENDAR
VERSION:2.0
PRODID:spatie/icalendar-generator
DESCRIPTION:なかまユニオン労働相談センターのイベント
X-WR-CALDESC:なかまユニオン労働相談センターのイベント
REFRESH-INTERVAL;VALUE=DURATION:PT1440M
X-PUBLISHED-TTL:PT1440M
BEGIN:VTIMEZONE
TZID:Asia/Tokyo
BEGIN:STANDARD
DTSTART:20250928T104500Z
TZOFFSETFROM:+0900
TZOFFSETTO:+0900
END:STANDARD
END:VTIMEZONE
BEGIN:VTIMEZONE
TZID:UTC
BEGIN:STANDARD
DTSTART:20250724T092259Z
TZOFFSETFROM:+0000
TZOFFSETTO:+0000
END:STANDARD
END:VTIMEZONE
BEGIN:VEVENT
UID:1187-209
DTSTAMP:20260420T092259Z
SUMMARY:神明会裁判期日《6月25日(木)》
LOCATION:
ORGANIZER;CN=Nakama Uniom:MAILTO:mail@nakama-union.org
DTSTART;TZID=Asia/Tokyo:20260625T104500
DTEND;TZID=Asia/Tokyo:20260625T114500
X-ALT-DESC;FMTTYPE=TEXT/HTML:日時：６月２５日１０時４５分～ 
 場所：大阪地裁６０８号
CATEGORIES:General
URL;VALUE=URI:https://www.nakama-union.org/mc-events/%e7%a5%9e%e6%98%8e%e4%
 bc%9a%e8%a3%81%e5%88%a4%e6%9c%9f%e6%97%a5%e3%80%8a6%e6%9c%8825%e6%97%a5%e6
 %9c%a8%e3%80%8b
METHOD:PUBLISH
END:VEVENT
END:VCALENDAR