BEGIN:VCALENDAR
VERSION:2.0
PRODID:spatie/icalendar-generator
DESCRIPTION:なかまユニオン労働相談センターのイベント
X-WR-CALDESC:なかまユニオン労働相談センターのイベント
REFRESH-INTERVAL;VALUE=DURATION:PT1440M
X-PUBLISHED-TTL:PT1440M
BEGIN:VTIMEZONE
TZID:Asia/Tokyo
BEGIN:STANDARD
DTSTART:20250804T000000Z
TZOFFSETFROM:+0900
TZOFFSETTO:+0900
END:STANDARD
END:VTIMEZONE
BEGIN:VTIMEZONE
TZID:UTC
BEGIN:STANDARD
DTSTART:20250724T092304Z
TZOFFSETFROM:+0000
TZOFFSETTO:+0000
END:STANDARD
END:VTIMEZONE
BEGIN:VEVENT
UID:1188-210
DTSTAMP:20260420T092304Z
SUMMARY:５月１日：中之島メーデー
LOCATION:
ORGANIZER;CN=Nakama Uniom:MAILTO:mail@nakama-union.org
DTSTART;TZID=Asia/Tokyo;VALUE=DATE:20260501
DTEND;TZID=Asia/Tokyo;VALUE=DATE:20260502
X-ALT-DESC;FMTTYPE=TEXT/HTML:日時５月１日(金)13：００～ 場所
 ：中之島公園剣先広場
CATEGORIES:General
URL;VALUE=URI:https://www.nakama-union.org/mc-events/%ef%bc%95%e6%9c%88%ef%
 bc%91%e6%97%a5%ef%bc%9a%e4%b8%ad%e4%b9%8b%e5%b3%b6%e3%83%a1%e3%83%bc%e3%83
 %87%e3%83%bc
METHOD:PUBLISH
END:VEVENT
END:VCALENDAR