BEGIN:VCALENDAR
VERSION:2.0
PRODID:spatie/icalendar-generator
DESCRIPTION:なかまユニオン労働相談センターのイベント
X-WR-CALDESC:なかまユニオン労働相談センターのイベント
REFRESH-INTERVAL;VALUE=DURATION:PT1440M
X-PUBLISHED-TTL:PT1440M
BEGIN:VTIMEZONE
TZID:Asia/Tokyo
BEGIN:STANDARD
DTSTART:20250813T110000Z
TZOFFSETFROM:+0900
TZOFFSETTO:+0900
END:STANDARD
END:VTIMEZONE
BEGIN:VTIMEZONE
TZID:UTC
BEGIN:STANDARD
DTSTART:20250724T093743Z
TZOFFSETFROM:+0000
TZOFFSETTO:+0000
END:STANDARD
END:VTIMEZONE
BEGIN:VEVENT
UID:1191-212
DTSTAMP:20260420T093743Z
SUMMARY:ピースフェスタinおおさか(２０２６)
LOCATION:
ORGANIZER;CN=Nakama Uniom:MAILTO:mail@nakama-union.org
DTSTART;TZID=Asia/Tokyo:20260510T110000
DTEND;TZID=Asia/Tokyo:20260510T160000
X-ALT-DESC;FMTTYPE=TEXT/HTML:日時：５月１０日(日)１１時～１
 ６時(雨天中止) 場所：いくのパーク(御幸森小学校跡)
CATEGORIES:General
URL;VALUE=URI:https://www.nakama-union.org/mc-events/%e3%83%94%e3%83%bc%e3%
 82%b9%e3%83%95%e3%82%a7%e3%82%b9%e3%82%bfin%e3%81%8a%e3%81%8a%e3%81%95%e3%
 81%8b%ef%bc%92%ef%bc%90%ef%bc%92%ef%bc%96
METHOD:PUBLISH
END:VEVENT
END:VCALENDAR